BEGIN:VCALENDAR
VERSION:2.0
PRODID:-//The Dividend Club - ECPv5.10.0//NONSGML v1.0//EN
CALSCALE:GREGORIAN
METHOD:PUBLISH
X-WR-CALNAME:The Dividend Club
X-ORIGINAL-URL:https://thedividendhunters.com
X-WR-CALDESC:Events for The Dividend Club
BEGIN:VTIMEZONE
TZID:America/Los_Angeles
BEGIN:DAYLIGHT
TZOFFSETFROM:-0800
TZOFFSETTO:-0700
TZNAME:PDT
DTSTART:20200308T100000
END:DAYLIGHT
BEGIN:STANDARD
TZOFFSETFROM:-0700
TZOFFSETTO:-0800
TZNAME:PST
DTSTART:20201101T090000
END:STANDARD
END:VTIMEZONE
BEGIN:VEVENT
DTSTART;VALUE=DATE:20201228
DTEND;VALUE=DATE:20201229
DTSTAMP:20260423T014855
CREATED:20201208T063256Z
LAST-MODIFIED:20201208T063256Z
UID:554-1609113600-1609199999@thedividendhunters.com
SUMMARY:MAIN - Ex-Dividend Date
DESCRIPTION:Main Street Capital Corp (MAIN) – Ex-Dividend Date
URL:https://thedividendhunters.com/event/main-ex-dividend-date-3/
CATEGORIES:Ex-Dividend
END:VEVENT
END:VCALENDAR