BEGIN:VCALENDAR
VERSION:2.0
PRODID:-//The Dividend Club - ECPv5.10.0//NONSGML v1.0//EN
CALSCALE:GREGORIAN
METHOD:PUBLISH
X-WR-CALNAME:The Dividend Club
X-ORIGINAL-URL:https://thedividendhunters.com
X-WR-CALDESC:Events for The Dividend Club
BEGIN:VTIMEZONE
TZID:America/Los_Angeles
BEGIN:DAYLIGHT
TZOFFSETFROM:-0800
TZOFFSETTO:-0700
TZNAME:PDT
DTSTART:20200308T100000
END:DAYLIGHT
BEGIN:STANDARD
TZOFFSETFROM:-0700
TZOFFSETTO:-0800
TZNAME:PST
DTSTART:20201101T090000
END:STANDARD
END:VTIMEZONE
BEGIN:VEVENT
DTSTART;VALUE=DATE:20201116
DTEND;VALUE=DATE:20201117
DTSTAMP:20260422T071948
CREATED:20201018T175020Z
LAST-MODIFIED:20201018T175020Z
UID:232-1605484800-1605571199@thedividendhunters.com
SUMMARY:HTGC - Payment Date
DESCRIPTION:Sorry\, but you do not have permission to view this content.
URL:https://thedividendhunters.com/event/htgc-payment-date/
CATEGORIES:Payment
END:VEVENT
BEGIN:VEVENT
DTSTART;VALUE=DATE:20201113
DTEND;VALUE=DATE:20201114
DTSTAMP:20260422T071948
CREATED:20201018T170911Z
LAST-MODIFIED:20201018T170911Z
UID:230-1605225600-1605311999@thedividendhunters.com
SUMMARY:ORCC - Payment Date
DESCRIPTION:Sorry\, but you do not have permission to view this content.
URL:https://thedividendhunters.com/event/orcc-payment-date/
CATEGORIES:Payment
END:VEVENT
BEGIN:VEVENT
DTSTART;VALUE=DATE:20201113
DTEND;VALUE=DATE:20201114
DTSTAMP:20260422T071948
CREATED:20201018T170811Z
LAST-MODIFIED:20201018T170811Z
UID:228-1605225600-1605311999@thedividendhunters.com
SUMMARY:PRT - Payment Date
DESCRIPTION:Sorry\, but you do not have permission to view this content.
URL:https://thedividendhunters.com/event/prt-payment-date-2/
CATEGORIES:Payment
END:VEVENT
BEGIN:VEVENT
DTSTART;VALUE=DATE:20201113
DTEND;VALUE=DATE:20201114
DTSTAMP:20260422T071948
CREATED:20201018T170712Z
LAST-MODIFIED:20201018T170712Z
UID:226-1605225600-1605311999@thedividendhunters.com
SUMMARY:MAIN - Payment Date
DESCRIPTION:Sorry\, but you do not have permission to view this content.
URL:https://thedividendhunters.com/event/main-payment-date/
CATEGORIES:Payment
END:VEVENT
BEGIN:VEVENT
DTSTART;VALUE=DATE:20201112
DTEND;VALUE=DATE:20201113
DTSTAMP:20260422T071948
CREATED:20201018T170609Z
LAST-MODIFIED:20201018T170609Z
UID:224-1605139200-1605225599@thedividendhunters.com
SUMMARY:OKE - Payment Date
DESCRIPTION:Sorry\, but you do not have permission to view this content.
URL:https://thedividendhunters.com/event/oke-payment-date/
CATEGORIES:Payment
END:VEVENT
BEGIN:VEVENT
DTSTART;VALUE=DATE:20201112
DTEND;VALUE=DATE:20201113
DTSTAMP:20260422T071948
CREATED:20201018T170510Z
LAST-MODIFIED:20201018T170510Z
UID:222-1605139200-1605225599@thedividendhunters.com
SUMMARY:PAGP - Payment Date
DESCRIPTION:Sorry\, but you do not have permission to view this content.
URL:https://thedividendhunters.com/event/pagp-payment-date/
CATEGORIES:Payment
END:VEVENT
BEGIN:VEVENT
DTSTART;VALUE=DATE:20201111
DTEND;VALUE=DATE:20201112
DTSTAMP:20260422T071948
CREATED:20201018T170232Z
LAST-MODIFIED:20201018T170232Z
UID:218-1605052800-1605139199@thedividendhunters.com
SUMMARY:ENLC - Payment Date
DESCRIPTION:Sorry\, but you do not have permission to view this content.
URL:https://thedividendhunters.com/event/enlc-payment-date/
CATEGORIES:Payment
END:VEVENT
BEGIN:VEVENT
DTSTART;VALUE=DATE:20201030
DTEND;VALUE=DATE:20201031
DTSTAMP:20260422T071948
CREATED:20201007T061715Z
LAST-MODIFIED:20201007T061715Z
UID:90-1604016000-1604102399@thedividendhunters.com
SUMMARY:UTG - Payment Date
DESCRIPTION:Sorry\, but you do not have permission to view this content.
URL:https://thedividendhunters.com/event/utg-payment-date/
CATEGORIES:Payment
END:VEVENT
BEGIN:VEVENT
DTSTART;VALUE=DATE:20201030
DTEND;VALUE=DATE:20201031
DTSTAMP:20260422T071948
CREATED:20201007T061616Z
LAST-MODIFIED:20201007T061616Z
UID:88-1604016000-1604102399@thedividendhunters.com
SUMMARY:NRZ - Payment Date
DESCRIPTION:Sorry\, but you do not have permission to view this content.
URL:https://thedividendhunters.com/event/nrz-payment-date/
CATEGORIES:Payment
END:VEVENT
BEGIN:VEVENT
DTSTART;VALUE=DATE:20201028
DTEND;VALUE=DATE:20201029
DTSTAMP:20260422T071948
CREATED:20201007T061306Z
LAST-MODIFIED:20201007T061306Z
UID:81-1603843200-1603929599@thedividendhunters.com
SUMMARY:PFFA - Payment Date
DESCRIPTION:Sorry\, but you do not have permission to view this content.
URL:https://thedividendhunters.com/event/pffa-payment-date/
CATEGORIES:Payment
END:VEVENT
BEGIN:VEVENT
DTSTART;VALUE=DATE:20201028
DTEND;VALUE=DATE:20201029
DTSTAMP:20260422T071948
CREATED:20201007T061206Z
LAST-MODIFIED:20201007T061206Z
UID:79-1603843200-1603929599@thedividendhunters.com
SUMMARY:AMZA - Payment Date
DESCRIPTION:Sorry\, but you do not have permission to view this content.
URL:https://thedividendhunters.com/event/amza-payment-date/
CATEGORIES:Payment
END:VEVENT
BEGIN:VEVENT
DTSTART;VALUE=DATE:20201027
DTEND;VALUE=DATE:20201028
DTSTAMP:20260422T071948
CREATED:20201007T060855Z
LAST-MODIFIED:20201007T060855Z
UID:74-1603756800-1603843199@thedividendhunters.com
SUMMARY:QYLD - Payment Date
DESCRIPTION:Sorry\, but you do not have permission to view this content.
URL:https://thedividendhunters.com/event/qyld-payment-date/
CATEGORIES:Payment
END:VEVENT
BEGIN:VEVENT
DTSTART;VALUE=DATE:20201015
DTEND;VALUE=DATE:20201016
DTSTAMP:20260422T071948
CREATED:20201007T055828Z
LAST-MODIFIED:20201007T055828Z
UID:61-1602720000-1602806399@thedividendhunters.com
SUMMARY:MGP - Payment Date
DESCRIPTION:Sorry\, but you do not have permission to view this content.
URL:https://thedividendhunters.com/event/mgp-payment-date/
CATEGORIES:Payment
END:VEVENT
BEGIN:VEVENT
DTSTART;VALUE=DATE:20201015
DTEND;VALUE=DATE:20201016
DTSTAMP:20260422T071948
CREATED:20201007T055733Z
LAST-MODIFIED:20201007T055733Z
UID:59-1602720000-1602806399@thedividendhunters.com
SUMMARY:PRT - Payment Date
DESCRIPTION:Sorry\, but you do not have permission to view this content.
URL:https://thedividendhunters.com/event/prt-payment-date/
CATEGORIES:Payment
END:VEVENT
BEGIN:VEVENT
DTSTART;VALUE=DATE:20201015
DTEND;VALUE=DATE:20201016
DTSTAMP:20260422T071948
CREATED:20201007T055607Z
LAST-MODIFIED:20201007T055607Z
UID:57-1602720000-1602806399@thedividendhunters.com
SUMMARY:STWD - Payment Date
DESCRIPTION:Sorry\, but you do not have permission to view this content.
URL:https://thedividendhunters.com/event/stwd-payment-date/
CATEGORIES:Payment
END:VEVENT
BEGIN:VEVENT
DTSTART;VALUE=DATE:20201015
DTEND;VALUE=DATE:20201016
DTSTAMP:20260422T071948
CREATED:20201007T055009Z
LAST-MODIFIED:20201007T055009Z
UID:52-1602720000-1602806399@thedividendhunters.com
SUMMARY:MAIN - Payment Date
DESCRIPTION:Sorry\, but you do not have permission to view this content.
URL:https://thedividendhunters.com/event/main-main-street-capital/
CATEGORIES:Payment
END:VEVENT
END:VCALENDAR